BEGIN:VCALENDAR
PRODID:-//AT Content Types//AT Event//EN
VERSION:1.0
BEGIN:VEVENT
DTSTART:20250627T173000Z
DTEND:20250705T203000Z
DCREATED:20250616T141315Z
UID:ATEvent-074b78eaef3147489da48daee6820458
SEQUENCE:0
LAST-MODIFIED:20250728T122238Z
SUMMARY:Nuit des églises paroisse de Pont d'Ain
DESCRIPTION:Nuit des églises dans la paroisse de Pont d'Ain
LOCATION:paroisse de Pont d'Ain
PRIORITY:3
TRANSP:0
END:VEVENT
END:VCALENDAR
