BEGIN:VCALENDAR
PRODID:-//AT Content Types//AT Event//EN
VERSION:2.0
METHOD:PUBLISH
BEGIN:VEVENT
DTSTAMP:20260421T012148Z
CREATED:20230220T110650Z
UID:ATEvent-05c7d8d0ee22402aaa4a5adb20f787fd
LAST-MODIFIED:20230906T135114Z
SUMMARY:Un Carême avec Sainte Bernadette. Un nouveau regard sur Lourdes
DTSTART:20230318T083000Z
DTEND:20230319T160000Z
DESCRIPTION:Comme chaque année\, la paroisse de Pont de Veyle organis
 e un Week-end de Retraite largement ouvert à tous. \nCette année il 
 aura lieu le 18 et 19 mars 2023 en présence des reliques de Sainte Be
 rnadette et prêché par un chapelain de Lourdes : Père Anne-Guillaum
 e VERNAECKT.
LOCATION:Eglise de Pont de Veyle
CONTACT:Père Olivier BARNAY - curé de Pont de Veyle\, 06 88 19 73 67\, abbebarnay@hotmail.fr
CLASS:PUBLIC
END:VEVENT
END:VCALENDAR
