BEGIN:VCALENDAR
PRODID:-//AT Content Types//AT Event//EN
VERSION:2.0
METHOD:PUBLISH
BEGIN:VEVENT
DTSTAMP:20260421T025950Z
CREATED:20240910T085058Z
UID:ATEvent-381f5dc408b3486e8562f86f2b010ec7
LAST-MODIFIED:20250528T154343Z
SUMMARY:[FORMATION] - Proposer l'onction des malades
DTSTART:20250517T070000Z
DTEND:20250517T100000Z
LOCATION:Évêché à Bourg-en-Bresse - Salle Pays de l'Ain - 29 rue Docteur Nodet
CONTACT:Père Emmanuel Faure\, 06 72 00 68 75\, abefaure@gmail.com
CLASS:PUBLIC
END:VEVENT
END:VCALENDAR
