BEGIN:VCALENDAR
PRODID:-//AT Content Types//AT Event//EN
VERSION:2.0
METHOD:PUBLISH
BEGIN:VEVENT
DTSTAMP:20260420T070832Z
CREATED:20230303T103559Z
UID:ATEvent-f795a7f226f0406387bdc4c4e1682665
LAST-MODIFIED:20230620T084040Z
SUMMARY:De la mort à la vie avec le CHRIST
DTSTART:20230509T070000Z
DTEND:20230509T140000Z
DESCRIPTION:Journée de formation de la Pastorale de la Santé\, le 09
  mai 2023\,  \navec Loïc BIOT (Diacre permanent & Médecin anesthési
 ste-réanimateur)
LOCATION:Evêché Bourg - 27-29 rue Dr Nodet
CONTACT:Pastorale de la santé\, pastoralesante@belley-ars.fr
CLASS:PUBLIC
END:VEVENT
END:VCALENDAR
