BEGIN:VCALENDAR
PRODID:-//AT Content Types//AT Event//EN
VERSION:2.0
METHOD:PUBLISH
BEGIN:VEVENT
DTSTAMP:20260421T000306Z
CREATED:20230831T135507Z
UID:ATEvent-f981cc938f454a1ba300f58afc27fd11
LAST-MODIFIED:20230914T090831Z
SUMMARY:Fête du 60ème anniversaire du MCR à Ars
DTSTART:20230929T070000Z
DTEND:20230929T143000Z
DESCRIPTION:Cette journée réunira adhérents ou sympathisants du mou
 vement chrétien des retraités des diocèses de Belley-Ars\, Lyon et 
 Saint-Etienne.
LOCATION:Sanctuaire d'Ars
URL:https://mcr.asso.fr/
CLASS:PUBLIC
END:VEVENT
END:VCALENDAR
