BEGIN:VCALENDAR
PRODID:-//AT Content Types//AT Event//EN
VERSION:1.0
BEGIN:VEVENT
DTSTART:20240309T090000Z
DTEND:20240309T160000Z
DCREATED:20230921T125539Z
UID:ATEvent-b33ab5958ee84f5499b2de0c9e155319
SEQUENCE:0
LAST-MODIFIED:20231114T081353Z
SUMMARY:Samedi de la Parole de Dieu - 09 mars 2024
DESCRIPTION:Lire\, étudier et méditer les textes de la Bible pour no
 urrir notre foi.\nTemps d’enseignement\, de travail personnel ou en 
 groupe\, temps d’intériorisation.\nAnimé par le père Michaël Gab
 orieau.
LOCATION:Chatillon-sur-Chalaronne
PRIORITY:3
TRANSP:0
END:VEVENT
END:VCALENDAR
