BEGIN:VCALENDAR
PRODID:-//AT Content Types//AT Event//EN
VERSION:2.0
METHOD:PUBLISH
BEGIN:VEVENT
DTSTAMP:20260421T132529Z
CREATED:20240829T080908Z
UID:ATEvent-7dd5cf0227fc49a4b42c53b5fc6041e5
LAST-MODIFIED:20251231T144305Z
SUMMARY:Journée de préparation de l'Appel Décisif
DTSTART:20260123T230000Z
DTEND:20260123T230000Z
LOCATION:Bourg
CONTACT:04 74 32 86 50\, servicespastoraux@belley-ars.fr
URL:https://belleyarscatechumenat2026-bourg.venio.fr/fr
CLASS:PUBLIC
END:VEVENT
END:VCALENDAR
