BEGIN:VCALENDAR
PRODID:-//AT Content Types//AT Event//EN
VERSION:1.0
BEGIN:VEVENT
DTSTART:20251129T080000Z
DTEND:20251129T150000Z
DCREATED:20210924T181759Z
UID:ATEvent-6dfe14e5305e44ef8c337047aaf9365c
SEQUENCE:0
LAST-MODIFIED:20251219T145232Z
SUMMARY:Journée des catéchumènes
DESCRIPTION:Une journée pour les adultes (à partir de 14 ans) qui se
  préparent au sacrement du baptême\, leurs accompagnateurs et les pr
 êtres.
LOCATION:Bourg
PRIORITY:3
TRANSP:0
END:VEVENT
END:VCALENDAR
