BEGIN:VCALENDAR
PRODID:-//AT Content Types//AT Event//EN
VERSION:2.0
METHOD:PUBLISH
BEGIN:VEVENT
DTSTAMP:20260423T173007Z
CREATED:20230526T063354Z
UID:ATEvent-711270fa4bc6444cbad0c71ad9ebe392
LAST-MODIFIED:20260423T132719Z
SUMMARY:Confirmations Adultes
DTSTART:20260524T130000Z
DTEND:20260524T150000Z
LOCATION:Bourg
CONTACT:04 74 32 86 50\, servicespastoraux@belley-ars.fr
CLASS:PUBLIC
END:VEVENT
END:VCALENDAR
