BEGIN:VCALENDAR
PRODID:-//AT Content Types//AT Event//EN
VERSION:1.0
BEGIN:VEVENT
DTSTART:20260222T140000Z
DTEND:20260222T160000Z
DCREATED:20230906T142037Z
UID:ATEvent-d2c42f18bac34896b93462320bb6ca3b
SEQUENCE:0
LAST-MODIFIED:20260216T144500Z
SUMMARY:Appel Décisif des catéchumènes
DESCRIPTION:Pour les paroisses et établissements scolaires qui accomp
 agnent des catéchumènes (plus de 14 ans préparant les sacrements de
  baptême+confirmation+eucharistie).
LOCATION:Châtillon-sur-Chalaronne
PRIORITY:3
TRANSP:0
END:VEVENT
END:VCALENDAR
