BEGIN:VCALENDAR
PRODID:-//AT Content Types//AT Event//EN
VERSION:2.0
METHOD:PUBLISH
BEGIN:VEVENT
DTSTAMP:20260419T140735Z
CREATED:20260330T085110Z
UID:ATEvent-815553a59c094ef785356f803a8306be
LAST-MODIFIED:20260401T070234Z
SUMMARY:Visionnez la Messe chrismale 2026
DTSTART:20260331T150000Z
DTEND:20260331T170000Z
LOCATION:Eglise Notre Dame de la Miséricorde au sanctuaire d'Ars
CLASS:PUBLIC
END:VEVENT
END:VCALENDAR
