BEGIN:VCALENDAR
PRODID:-//AT Content Types//AT Event//EN
VERSION:1.0
BEGIN:VEVENT
DTSTART:20250802T220000Z
DTEND:20250804T200000Z
DCREATED:20240813T135007Z
UID:ATEvent-3d87c5e61ec44081b31cb904087bbf14
SEQUENCE:0
LAST-MODIFIED:20250828T094140Z
SUMMARY:[JUBILÉ ARS 2025] - Fête du Saint curé - Jubilé des prêtres et des curés - Dimanche 3 et lundi 4 août 2025
LOCATION:Sanctuaire d'Ars
PRIORITY:3
TRANSP:0
END:VEVENT
END:VCALENDAR
