BEGIN:VCALENDAR
PRODID:-//AT Content Types//AT Event//EN
VERSION:1.0
BEGIN:VEVENT
DTSTART:20241120T230000Z
DTEND:20241120T230000Z
DCREATED:20240814T084752Z
UID:ATEvent-21740c9de885463c9c335eeea8d99daf
SEQUENCE:0
LAST-MODIFIED:20241205T110342Z
SUMMARY:[JUBILÉ ARS 2025] -Jubilé des consacrés - Jeudi 21 novembre 2024
LOCATION:Sanctuaire d'Ars
PRIORITY:3
TRANSP:0
END:VEVENT
END:VCALENDAR
