BEGIN:VCALENDAR
PRODID:-//AT Content Types//AT Event//EN
VERSION:2.0
METHOD:PUBLISH
BEGIN:VEVENT
DTSTAMP:20260421T085231Z
CREATED:20240813T145302Z
UID:ATEvent-2e8e226e5cf849f68c80c802d2bf0cd8
LAST-MODIFIED:20250901T103043Z
SUMMARY:31.Clôture du Jubilé Universel 2025 - Dimanche 6 janvier 2026 - [JUBILÉ ARS 2025]
DTSTART:20260105T230000Z
DTEND:20260105T230000Z
LOCATION:Rome
URL:https://www.iubilaeum2025.va/fr.html
CLASS:PUBLIC
END:VEVENT
END:VCALENDAR
