BEGIN:VCALENDAR
PRODID:-//AT Content Types//AT Event//EN
VERSION:2.0
METHOD:PUBLISH
BEGIN:VEVENT
DTSTAMP:20260420T191615Z
CREATED:20220610T074747Z
UID:ATEvent-bfb01fcf914b4af49ac6df4246ef8a4a
LAST-MODIFIED:20221012T090123Z
SUMMARY:JUBILÉ 2022  - Journée de rentrée diocésaine à Ars -
DTSTART:20220903T080000Z
DTEND:20220903T160000Z
DESCRIPTION:Une journée pour tous les chrétiens du diocèse\, sur le
  thème de la paternité
LOCATION:Sanctuaire d'Ars
URL:https://catholique-belley-ars.fr/notre-diocese/archives/evenements-dans-le-diocese/jubile-2022/3-septembre-2022-journee-de-rentree-diocesaine-a-ars
CLASS:PUBLIC
END:VEVENT
END:VCALENDAR
