BEGIN:VCALENDAR
PRODID:-//AT Content Types//AT Event//EN
VERSION:1.0
BEGIN:VEVENT
DTSTART:20230513T100000Z
DTEND:20230514T150000Z
DCREATED:20230331T075350Z
UID:ATEvent-59e5bb76723449dcaab3b0b2c92570b3
SEQUENCE:0
LAST-MODIFIED:20230525T125844Z
SUMMARY:JUBILE 2022-2023 - Construisons un vivre ensemble fraternel
DESCRIPTION:Rendez-vous à Jujurieux les 13 et 14 mai 2023 pour décou
 vrir la Doctrine Sociale de l’Eglise et l’action sociale des chré
 tiens\, il y a 200 ans et aujourd’hui !
LOCATION:Jujurieux
PRIORITY:3
TRANSP:0
END:VEVENT
END:VCALENDAR
