BEGIN:VCALENDAR
PRODID:-//AT Content Types//AT Event//EN
VERSION:2.0
METHOD:PUBLISH
BEGIN:VEVENT
DTSTAMP:20260419T140250Z
CREATED:20211216T151559Z
UID:ATEvent-b1ebb97043e64a9fb867a6530d147618
LAST-MODIFIED:20230704T082411Z
SUMMARY:Matinée "Rapport de la CIASE"
DTSTART:20220205T080000Z
DTEND:20220205T110000Z
DESCRIPTION:Le diocèse vous invite à une matinée pour découvrir ra
 pport de la CIASE et les décisions des évêques de France\, écouter
  et échanger sur ce sujet. Cette matinée sera retransmise en direct 
 sur Internet.
LOCATION:Salle des Pays de l'Ain - Maison Jean-Marie Vianney
CLASS:PUBLIC
END:VEVENT
END:VCALENDAR
