BEGIN:VCALENDAR
PRODID:-//AT Content Types//AT Event//EN
VERSION:2.0
METHOD:PUBLISH
BEGIN:VEVENT
DTSTAMP:20260421T105541Z
CREATED:20230801T084007Z
UID:ATEvent-bc395edcb98d43939aa0a643fcca7a48
LAST-MODIFIED:20250123T113236Z
SUMMARY:Photos de la Messe de rentrée 2023 de l'Enseignement Catholique
DTSTART:20230916T080000Z
DTEND:20230916T120000Z
DESCRIPTION:Photos de la Messe de rentrée 2023 de l'Enseignement Cath
 olique et de la remise des palmes académiques à Yves Fulchiron
LOCATION:Basilique du Sacré Coeur\, Bourg-en-Bresse
CATEGORIES:Enseignement catholique
CLASS:PUBLIC
END:VEVENT
END:VCALENDAR
