BEGIN:VCALENDAR
PRODID:-//AT Content Types//AT Event//EN
VERSION:2.0
METHOD:PUBLISH
BEGIN:VEVENT
DTSTAMP:20260421T213638Z
CREATED:20240726T125715Z
UID:ATEvent-3bb9210807994b579b8b47cff102d69d
LAST-MODIFIED:20250915T082102Z
SUMMARY:Messe de rentrée de l'Enseignement catholique
DTSTART:20250913T080000Z
DTEND:20250913T090000Z
DESCRIPTION:Messe de rentrée de l'Enseignement catholique samedi 13 s
 eptembre 2025 à 10h à Bourg-en-Bresse
LOCATION:Chapelle Institution Saint Joseph à Bourg-en-Bresse
CLASS:PUBLIC
END:VEVENT
END:VCALENDAR
