BEGIN:VCALENDAR
PRODID:-//AT Content Types//AT Event//EN
VERSION:1.0
BEGIN:VEVENT
DTSTART:20250507T220000Z
DTEND:20250507T220000Z
DCREATED:20240819T092518Z
UID:ATEvent-9260e73a74894f1ba5ce51255204de8c
SEQUENCE:0
LAST-MODIFIED:20250510T084705Z
SUMMARY:[JUBILÉ ARS 2025] - Jubilé des familles\, des “Vianney” et des “Jean-Marie” - Jeudi 8 mai 2025
LOCATION:Sanctuaire d'Ars
PRIORITY:3
TRANSP:0
END:VEVENT
END:VCALENDAR
