BEGIN:VCALENDAR
PRODID:-//AT Content Types//AT Event//EN
VERSION:2.0
METHOD:PUBLISH
BEGIN:VEVENT
DTSTAMP:20260421T093941Z
CREATED:20211116T103705Z
UID:ATEvent-3adb004c1c8f4108ae013fa211f9be33
LAST-MODIFIED:20211116T104556Z
SUMMARY:Veillée de prière
DTSTART:20211127T173000Z
DTEND:20211127T190000Z
DESCRIPTION:Dans le cadre du Forum Wahou\, veillée de prière ouverte
  à tous : louange\, adoration...
LOCATION:Salle des Pays de l'Ain - Maison Jean-Marie Vianney
CLASS:PUBLIC
END:VEVENT
END:VCALENDAR
