BEGIN:VCALENDAR
PRODID:-//AT Content Types//AT Event//EN
VERSION:2.0
METHOD:PUBLISH
BEGIN:VEVENT
DTSTAMP:20260422T161630Z
CREATED:20260402T072303Z
UID:ATEvent-2e729adbaa974762871648f31542cf0e
LAST-MODIFIED:20260402T073711Z
SUMMARY:Soirée mouvements et associations pastorales pour la famille
DTSTART:20260428T163000Z
DTEND:20260428T200000Z
LOCATION:Site Jean-Marie Vianney - Bourg en Bresse
CLASS:PUBLIC
END:VEVENT
END:VCALENDAR
