BEGIN:VCALENDAR
PRODID:-//AT Content Types//AT Event//EN
VERSION:2.0
METHOD:PUBLISH
BEGIN:VEVENT
DTSTAMP:20260419T135307Z
CREATED:20230906T144953Z
UID:ATEvent-96078d0c7c8b4293ac26515b554a16ba
LAST-MODIFIED:20260326T081256Z
SUMMARY:Week-end FEU - Avril 2026
DTSTART:20260418T060000Z
DTEND:20260419T060000Z
DESCRIPTION:Un week-end interdiocésain entre les diocèse de Belley-A
 rs\, Chambéry et Annecy à destination des étudiants et jeunes profe
 ssionnels
LOCATION:Belley
CONTACT:06 23 25 60 49\, paje.ain@gmail.com
URL:http://weekendfeuroutebelleyars2026-belly.venio.fr 
CLASS:PUBLIC
END:VEVENT
END:VCALENDAR
