BEGIN:VCALENDAR
PRODID:-//AT Content Types//AT Event//EN
VERSION:1.0
BEGIN:VEVENT
DTSTART:20260131T083000Z
DTEND:20260201T153000Z
DCREATED:20200916T153448Z
UID:ATEvent-0708c5fba1ae431c94e7b852ee6b95bc
SEQUENCE:0
LAST-MODIFIED:20250724T162626Z
SUMMARY:Week-end "Dieu est là" - Février 2026
LOCATION:Belley
PRIORITY:3
TRANSP:0
END:VEVENT
END:VCALENDAR
