BEGIN:VCALENDAR
PRODID:-//AT Content Types//AT Event//EN
VERSION:1.0
BEGIN:VEVENT
DTSTART:20251122T083000Z
DTEND:20251123T153000Z
DCREATED:20240715T130701Z
UID:ATEvent-e594692ae07b40aea703c22825aea586
SEQUENCE:0
LAST-MODIFIED:20250724T162316Z
SUMMARY:Week-end "Dieu est là" - Novembre 2025
LOCATION:Bourg-en-Bresse
PRIORITY:3
TRANSP:0
END:VEVENT
END:VCALENDAR
