BEGIN:VCALENDAR
PRODID:-//AT Content Types//AT Event//EN
VERSION:2.0
METHOD:PUBLISH
BEGIN:VEVENT
DTSTAMP:20260419T152552Z
CREATED:20210831T130150Z
UID:ATEvent-6b158ec667dd4eabb28d64d678b4cda9
LAST-MODIFIED:20260223T103205Z
SUMMARY:Journée 10-12 ans - Mars 2026
DTSTART:20260314T083000Z
DTEND:20260314T170000Z
DESCRIPTION:« En nos coeurs\, l’Esprit crie : Père ! » Ga 4\, 6
LOCATION:Sanctuaire d'Ars
CONTACT:Pastorale des Jeunes\, 0623256049\, paje.ain@gmail.com
CLASS:PUBLIC
END:VEVENT
END:VCALENDAR
