BEGIN:VCALENDAR
PRODID:-//AT Content Types//AT Event//EN
VERSION:1.0
BEGIN:VEVENT
DTSTART:20260207T073000Z
DTEND:20260207T173000Z
DCREATED:20241206T152332Z
UID:ATEvent-7c9e3ef74a834c93a5896b7aae56088d
SEQUENCE:0
LAST-MODIFIED:20260120T145417Z
SUMMARY:Marche pour les vocations - marche spéciale pour les servants d'autel et des servantes d'assemblée
DESCRIPTION:La Marche pour les vocations\, \nUn aménagement spécifiq
 ue pour les servants d'autel et les servantes d'assemblées
LOCATION:Saint Bernard\, Trévoux\, Ars-sur-formans
PRIORITY:3
TRANSP:0
END:VEVENT
END:VCALENDAR
