BEGIN:VCALENDAR
PRODID:-//AT Content Types//AT Event//EN
VERSION:2.0
METHOD:PUBLISH
BEGIN:VEVENT
DTSTAMP:20260421T192007Z
CREATED:20240819T141425Z
UID:ATEvent-9827d454e9c34ecf92fbfbbe6b4efeaa
LAST-MODIFIED:20260127T134846Z
SUMMARY:Pèlerinage Lourdes Jeunes - Juillet 2026
DTSTART:20260725T141000Z
DTEND:20260731T141000Z
DESCRIPTION:Cette année aura lieu un camp des jeunes à Lourdes pour 
 participer au pèlerinage diocésain\, du 25 au 31 juillet 2025.\n\nLe
 s collégiens vivront un camp sous tente\, au Village des jeunes\, pou
 r louer\, adorer\, découvrir Jésus par. Ils participeront aux temps 
 forts du pèlerinage diocésain mais auront aussi l’occasion de renc
 ontrer des témoins\, profiter de la vie du camp et découvrir Lourdes
  et ses montagnes.\n\nLes lycéens logeront en dortoir\, également au
  village des jeunes\, mais vivront le pèlerinage au service de l’ho
 spitalité et des pèlerins malades. C’est en les accompagnant qu’
 ils découvriront Lourdes et participeront au pèlerinage diocésain. 
 Des animateurs de la PaJe seront avec eux au service et prendront auss
 i des temps de relecture de leur expérience et de détente avec eux.\
 n\nPour les lycéens\, un week-end de préparation a eu lieu à Bourg 
 en Bresse\, à la maison Jean- Marie Vianney\, les 25 et 26 mai 2025.
LOCATION:Lourdes
CONTACT:Pastorale des Jeunes - PaJe\, 06 23 25 60 49\, paje.ain@gmail.com
URL:https://catholique-belley-ars.fr/jeunes-familles/la-pastorale-des-jeunes/collegiens-lyceens/pour-les-jeunes-cet-ete
CLASS:PUBLIC
END:VEVENT
END:VCALENDAR
