BEGIN:VCALENDAR
PRODID:-//AT Content Types//AT Event//EN
VERSION:2.0
METHOD:PUBLISH
BEGIN:VEVENT
DTSTAMP:20260419T161624Z
CREATED:20240708T074806Z
UID:ATEvent-12eab6f25a8a42b58ea032411d33378a
LAST-MODIFIED:20260127T142019Z
SUMMARY:Ecole de Prière Jeunes - Août 2026
DTSTART:20260815T220000Z
DTEND:20260821T220000Z
LOCATION:Institution Lamartine à Belley
CONTACT:Pastorale des Jeunes du diocèse de Belley-Ars\, 06 23 25 60 49\, paje.ain@gmail.com
URL:https://catholique-belley-ars.fr/jeunes-familles/la-pastorale-des-jeunes/collegiens-lyceens/lecole-de-priere-jeunes
CLASS:PUBLIC
END:VEVENT
END:VCALENDAR
