BEGIN:VCALENDAR
PRODID:-//AT Content Types//AT Event//EN
VERSION:2.0
METHOD:PUBLISH
BEGIN:VEVENT
DTSTAMP:20260423T033057Z
CREATED:20260220T153445Z
UID:ATEvent-53f242a1ba5446d58ebefe00e5317eae
LAST-MODIFIED:20260220T153840Z
SUMMARY:Prière pour accueillir un nouvel évêque
DTSTART:20260220T153500Z
DTEND:20260820T143500Z
CLASS:PUBLIC
END:VEVENT
END:VCALENDAR
